BEGIN:VCALENDAR
VERSION:2.0
PRODID:spatie/icalendar-generator
DESCRIPTION:Events from Selinsgrove Area School District
X-WR-CALDESC:Events from Selinsgrove Area School District
REFRESH-INTERVAL;VALUE=DURATION:PT1440M
X-PUBLISHED-TTL:PT1440M
BEGIN:VTIMEZONE
TZID:Etc/GMT+5
BEGIN:STANDARD
DTSTART:20250705T130000Z
TZOFFSETFROM:-0500
TZOFFSETTO:-0500
END:STANDARD
END:VTIMEZONE
BEGIN:VTIMEZONE
TZID:UTC
BEGIN:STANDARD
DTSTART:20250725T142138Z
TZOFFSETFROM:+0000
TZOFFSETTO:+0000
END:STANDARD
END:VTIMEZONE
BEGIN:VEVENT
UID:2502-2265
DTSTAMP:20260421T142138Z
SUMMARY:Spring Photo Make-ups
LOCATION:
ORGANIZER;CN=Steve Shambach:MAILTO:sshambach@seal-pa.org
DTSTART;TZID=Etc/GMT+5:20260401T130000
DTEND;TZID=Etc/GMT+5:20260401T150000
X-ALT-DESC;FMTTYPE=TEXT/HTML:
CATEGORIES:Middle
URL;VALUE=URI:https://www.seal-pa.org/mc-events/spring-photo-make-ups/
METHOD:PUBLISH
END:VEVENT
BEGIN:VEVENT
UID:2484-2343
DTSTAMP:20260421T142138Z
SUMMARY:PTSO Meeting at ES
LOCATION:
ORGANIZER;CN=Teresa Moyer:MAILTO:tmoyer@seal-pa.org
DTSTART;TZID=Etc/GMT+5:20260401T181500
DTEND;TZID=Etc/GMT+5:20260401T191500
X-ALT-DESC;FMTTYPE=TEXT/HTML:
CATEGORIES:Elementary
URL;VALUE=URI:https://www.seal-pa.org/mc-events/ptso-meeting-at-es-10/
METHOD:PUBLISH
END:VEVENT
BEGIN:VEVENT
UID:2320-2197
DTSTAMP:20260421T142138Z
SUMMARY:SAIS Gr 5 Band/Chorus Concert Snow Date at MS
LOCATION:
ORGANIZER;CN=Gina Gessel:MAILTO:ggessel@seal-pa.org
DTSTART;TZID=Etc/GMT+5:20260401T190000
DTEND;TZID=Etc/GMT+5:20260401T200000
X-ALT-DESC;FMTTYPE=TEXT/HTML:
CATEGORIES:Intermediate
URL;VALUE=URI:https://www.seal-pa.org/mc-events/sais-gr-5-band-chorus-conce
 rt-snow-date-at-ms-2/
METHOD:PUBLISH
END:VEVENT
BEGIN:VEVENT
UID:2494-2349
DTSTAMP:20260421T142138Z
SUMMARY:SCHOOLS OPEN - MAKEUP DAY FOR 1/26/26
LOCATION:
ORGANIZER;CN=Claudia Beaver:MAILTO:cbeaver@seal-pa.org
DTSTART;TZID=Etc/GMT+5;VALUE=DATE:20260402
DTEND;TZID=Etc/GMT+5;VALUE=DATE:20260403
X-ALT-DESC;FMTTYPE=TEXT/HTML:
CATEGORIES:District
URL;VALUE=URI:https://www.seal-pa.org/mc-events/schools-open-makeup-day-for
 -1-26-26/
METHOD:PUBLISH
END:VEVENT
BEGIN:VEVENT
UID:2261-2144
DTSTAMP:20260421T142138Z
SUMMARY:No School - Spring Break
LOCATION:
ORGANIZER;CN=Gina Gessel:MAILTO:ggessel@seal-pa.org
DTSTART;TZID=Etc/GMT+5;VALUE=DATE:20260403
DTEND;TZID=Etc/GMT+5;VALUE=DATE:20260404
X-ALT-DESC;FMTTYPE=TEXT/HTML:
CATEGORIES:Intermediate
URL;VALUE=URI:https://www.seal-pa.org/mc-events/no-school-spring-break-4/
METHOD:PUBLISH
END:VEVENT
BEGIN:VEVENT
UID:2262-2145
DTSTAMP:20260421T142138Z
SUMMARY:No School - Spring Break
LOCATION:
ORGANIZER;CN=Gina Gessel:MAILTO:ggessel@seal-pa.org
DTSTART;TZID=Etc/GMT+5;VALUE=DATE:20260406
DTEND;TZID=Etc/GMT+5;VALUE=DATE:20260407
X-ALT-DESC;FMTTYPE=TEXT/HTML:
CATEGORIES:Intermediate
URL;VALUE=URI:https://www.seal-pa.org/mc-events/no-school-spring-break-5/
METHOD:PUBLISH
END:VEVENT
BEGIN:VEVENT
UID:2498-2351
DTSTAMP:20260421T142138Z
SUMMARY:Mobile Dentist at ES
LOCATION:
ORGANIZER;CN=Teresa Moyer:MAILTO:tmoyer@seal-pa.org
DTSTART;TZID=Etc/GMT+5;VALUE=DATE:20260409
DTEND;TZID=Etc/GMT+5;VALUE=DATE:20260411
X-ALT-DESC;FMTTYPE=TEXT/HTML:
CATEGORIES:Elementary
URL;VALUE=URI:https://www.seal-pa.org/mc-events/mobile-dentist-at-es-4/
METHOD:PUBLISH
END:VEVENT
BEGIN:VEVENT
UID:2486-2345
DTSTAMP:20260421T142138Z
SUMMARY:1st Grade Choral Concert at SAMS
LOCATION:
ORGANIZER;CN=Teresa Moyer:MAILTO:tmoyer@seal-pa.org
DTSTART;TZID=Etc/GMT+5:20260409T180000
DTEND;TZID=Etc/GMT+5:20260409T190000
X-ALT-DESC;FMTTYPE=TEXT/HTML:
CATEGORIES:Elementary
URL;VALUE=URI:https://www.seal-pa.org/mc-events/1st-grade-choral-concert-at
 -sams/
METHOD:PUBLISH
END:VEVENT
BEGIN:VEVENT
UID:2487-2346
DTSTAMP:20260421T142138Z
SUMMARY:2nd Grade Choral Concert at SAMS
LOCATION:
ORGANIZER;CN=Teresa Moyer:MAILTO:tmoyer@seal-pa.org
DTSTART;TZID=Etc/GMT+5:20260409T193000
DTEND;TZID=Etc/GMT+5:20260409T203000
X-ALT-DESC;FMTTYPE=TEXT/HTML:
CATEGORIES:Elementary
URL;VALUE=URI:https://www.seal-pa.org/mc-events/2nd-grade-choral-concert-at
 -sams/
METHOD:PUBLISH
END:VEVENT
BEGIN:VEVENT
UID:2498-2351
DTSTAMP:20260421T142138Z
SUMMARY:Mobile Dentist at ES
LOCATION:
ORGANIZER;CN=Teresa Moyer:MAILTO:tmoyer@seal-pa.org
DTSTART;TZID=Etc/GMT+5;VALUE=DATE:20260409
DTEND;TZID=Etc/GMT+5;VALUE=DATE:20260411
X-ALT-DESC;FMTTYPE=TEXT/HTML:
CATEGORIES:Elementary
URL;VALUE=URI:https://www.seal-pa.org/mc-events/mobile-dentist-at-es-4/
METHOD:PUBLISH
END:VEVENT
BEGIN:VEVENT
UID:2499-2352
DTSTAMP:20260421T142138Z
SUMMARY:Mobile Dentist at ES
LOCATION:
ORGANIZER;CN=Teresa Moyer:MAILTO:tmoyer@seal-pa.org
DTSTART;TZID=Etc/GMT+5;VALUE=DATE:20260413
DTEND;TZID=Etc/GMT+5;VALUE=DATE:20260415
X-ALT-DESC;FMTTYPE=TEXT/HTML:
CATEGORIES:Elementary
URL;VALUE=URI:https://www.seal-pa.org/mc-events/mobile-dentist-at-es-5/
METHOD:PUBLISH
END:VEVENT
BEGIN:VEVENT
UID:2466-2326
DTSTAMP:20260421T142138Z
SUMMARY:School Board Meeting
LOCATION:
ORGANIZER;CN=Claudia Beaver:MAILTO:cbeaver@seal-pa.org
DTSTART;TZID=Etc/GMT+5:20260413T190000
DTEND;TZID=Etc/GMT+5:20260413T200000
X-ALT-DESC;FMTTYPE=TEXT/HTML:To be held in the Middle School Multi-Purpose 
 Room.
CATEGORIES:District
URL;VALUE=URI:https://www.seal-pa.org/mc-events/school-board-meeting-75/
METHOD:PUBLISH
END:VEVENT
BEGIN:VEVENT
UID:2504-2356
DTSTAMP:20260421T142138Z
SUMMARY:Budget &amp;amp\; Finance Committee Meeting
LOCATION:
ORGANIZER;CN=Claudia Beaver:MAILTO:cbeaver@seal-pa.org
DTSTART;TZID=Etc/GMT+5:20260413T193000
DTEND;TZID=Etc/GMT+5:20260413T203000
X-ALT-DESC;FMTTYPE=TEXT/HTML:To be held in the MS Multi-Purpose Room follow
 ing adjournment of the Board Meeting.
CATEGORIES:District
URL;VALUE=URI:https://www.seal-pa.org/mc-events/budget-finance-committee-me
 eting-10/
METHOD:PUBLISH
END:VEVENT
BEGIN:VEVENT
UID:2499-2352
DTSTAMP:20260421T142138Z
SUMMARY:Mobile Dentist at ES
LOCATION:
ORGANIZER;CN=Teresa Moyer:MAILTO:tmoyer@seal-pa.org
DTSTART;TZID=Etc/GMT+5;VALUE=DATE:20260413
DTEND;TZID=Etc/GMT+5;VALUE=DATE:20260415
X-ALT-DESC;FMTTYPE=TEXT/HTML:
CATEGORIES:Elementary
URL;VALUE=URI:https://www.seal-pa.org/mc-events/mobile-dentist-at-es-5/
METHOD:PUBLISH
END:VEVENT
BEGIN:VEVENT
UID:2321-2198
DTSTAMP:20260421T142138Z
SUMMARY:SAIS Mobile Dentist
LOCATION:
ORGANIZER;CN=Gina Gessel:MAILTO:ggessel@seal-pa.org
DTSTART;TZID=Etc/GMT+5;VALUE=DATE:20260415
DTEND;TZID=Etc/GMT+5;VALUE=DATE:20260418
X-ALT-DESC;FMTTYPE=TEXT/HTML:
CATEGORIES:Intermediate
URL;VALUE=URI:https://www.seal-pa.org/mc-events/sais-mobile-dentist-8/
METHOD:PUBLISH
END:VEVENT
BEGIN:VEVENT
UID:2321-2198
DTSTAMP:20260421T142138Z
SUMMARY:SAIS Mobile Dentist
LOCATION:
ORGANIZER;CN=Gina Gessel:MAILTO:ggessel@seal-pa.org
DTSTART;TZID=Etc/GMT+5;VALUE=DATE:20260415
DTEND;TZID=Etc/GMT+5;VALUE=DATE:20260418
X-ALT-DESC;FMTTYPE=TEXT/HTML:
CATEGORIES:Intermediate
URL;VALUE=URI:https://www.seal-pa.org/mc-events/sais-mobile-dentist-8/
METHOD:PUBLISH
END:VEVENT
BEGIN:VEVENT
UID:2321-2198
DTSTAMP:20260421T142138Z
SUMMARY:SAIS Mobile Dentist
LOCATION:
ORGANIZER;CN=Gina Gessel:MAILTO:ggessel@seal-pa.org
DTSTART;TZID=Etc/GMT+5;VALUE=DATE:20260415
DTEND;TZID=Etc/GMT+5;VALUE=DATE:20260418
X-ALT-DESC;FMTTYPE=TEXT/HTML:
CATEGORIES:Intermediate
URL;VALUE=URI:https://www.seal-pa.org/mc-events/sais-mobile-dentist-8/
METHOD:PUBLISH
END:VEVENT
BEGIN:VEVENT
UID:2322-2199
DTSTAMP:20260421T142138Z
SUMMARY:SAIS ELA PSSA Testing
LOCATION:
ORGANIZER;CN=Gina Gessel:MAILTO:ggessel@seal-pa.org
DTSTART;TZID=Etc/GMT+5;VALUE=DATE:20260420
DTEND;TZID=Etc/GMT+5;VALUE=DATE:20260425
X-ALT-DESC;FMTTYPE=TEXT/HTML:
CATEGORIES:Intermediate
URL;VALUE=URI:https://www.seal-pa.org/mc-events/sais-ela-pssa-testing/
METHOD:PUBLISH
END:VEVENT
BEGIN:VEVENT
UID:2322-2199
DTSTAMP:20260421T142138Z
SUMMARY:SAIS ELA PSSA Testing
LOCATION:
ORGANIZER;CN=Gina Gessel:MAILTO:ggessel@seal-pa.org
DTSTART;TZID=Etc/GMT+5;VALUE=DATE:20260420
DTEND;TZID=Etc/GMT+5;VALUE=DATE:20260425
X-ALT-DESC;FMTTYPE=TEXT/HTML:
CATEGORIES:Intermediate
URL;VALUE=URI:https://www.seal-pa.org/mc-events/sais-ela-pssa-testing/
METHOD:PUBLISH
END:VEVENT
BEGIN:VEVENT
UID:2509-2361
DTSTAMP:20260421T142138Z
SUMMARY:PSSA Testing ELA
LOCATION:
ORGANIZER;CN=Steve Shambach:MAILTO:sshambach@seal-pa.org
DTSTART;TZID=Etc/GMT+5:20260421T083500
DTEND;TZID=Etc/GMT+5:20260423T104000
X-ALT-DESC;FMTTYPE=TEXT/HTML:
CATEGORIES:Middle
URL;VALUE=URI:https://www.seal-pa.org/mc-events/pssa-testing-ela/
METHOD:PUBLISH
END:VEVENT
BEGIN:VEVENT
UID:2505-2357
DTSTAMP:20260421T142138Z
SUMMARY:Joint Buildings &amp;amp\; Grounds and Extracurricular Committee Meetin
 g
LOCATION:
ORGANIZER;CN=Claudia Beaver:MAILTO:cbeaver@seal-pa.org
DTSTART;TZID=Etc/GMT+5:20260421T190000
DTEND;TZID=Etc/GMT+5:20260421T200000
X-ALT-DESC;FMTTYPE=TEXT/HTML:To be held in the Middle School Multi-Purpose 
 Room (A-103).  Please note that the Buildings &amp;amp\; Grounds Committee wi
 ll meet first briefly on-site at the Selinsgrove Pool Parking Lot at 7 p.m
 .
CATEGORIES:District
URL;VALUE=URI:https://www.seal-pa.org/mc-events/joint-buildings-grounds-and
 -extracurricular-committee-meeting/
METHOD:PUBLISH
END:VEVENT
BEGIN:VEVENT
UID:2322-2199
DTSTAMP:20260421T142138Z
SUMMARY:SAIS ELA PSSA Testing
LOCATION:
ORGANIZER;CN=Gina Gessel:MAILTO:ggessel@seal-pa.org
DTSTART;TZID=Etc/GMT+5;VALUE=DATE:20260420
DTEND;TZID=Etc/GMT+5;VALUE=DATE:20260425
X-ALT-DESC;FMTTYPE=TEXT/HTML:
CATEGORIES:Intermediate
URL;VALUE=URI:https://www.seal-pa.org/mc-events/sais-ela-pssa-testing/
METHOD:PUBLISH
END:VEVENT
BEGIN:VEVENT
UID:2509-2361
DTSTAMP:20260421T142138Z
SUMMARY:PSSA Testing ELA
LOCATION:
ORGANIZER;CN=Steve Shambach:MAILTO:sshambach@seal-pa.org
DTSTART;TZID=Etc/GMT+5:20260421T083500
DTEND;TZID=Etc/GMT+5:20260423T104000
X-ALT-DESC;FMTTYPE=TEXT/HTML:
CATEGORIES:Middle
URL;VALUE=URI:https://www.seal-pa.org/mc-events/pssa-testing-ela/
METHOD:PUBLISH
END:VEVENT
BEGIN:VEVENT
UID:2322-2199
DTSTAMP:20260421T142138Z
SUMMARY:SAIS ELA PSSA Testing
LOCATION:
ORGANIZER;CN=Gina Gessel:MAILTO:ggessel@seal-pa.org
DTSTART;TZID=Etc/GMT+5;VALUE=DATE:20260420
DTEND;TZID=Etc/GMT+5;VALUE=DATE:20260425
X-ALT-DESC;FMTTYPE=TEXT/HTML:
CATEGORIES:Intermediate
URL;VALUE=URI:https://www.seal-pa.org/mc-events/sais-ela-pssa-testing/
METHOD:PUBLISH
END:VEVENT
BEGIN:VEVENT
UID:2509-2361
DTSTAMP:20260421T142138Z
SUMMARY:PSSA Testing ELA
LOCATION:
ORGANIZER;CN=Steve Shambach:MAILTO:sshambach@seal-pa.org
DTSTART;TZID=Etc/GMT+5:20260421T083500
DTEND;TZID=Etc/GMT+5:20260423T104000
X-ALT-DESC;FMTTYPE=TEXT/HTML:
CATEGORIES:Middle
URL;VALUE=URI:https://www.seal-pa.org/mc-events/pssa-testing-ela/
METHOD:PUBLISH
END:VEVENT
BEGIN:VEVENT
UID:2322-2199
DTSTAMP:20260421T142138Z
SUMMARY:SAIS ELA PSSA Testing
LOCATION:
ORGANIZER;CN=Gina Gessel:MAILTO:ggessel@seal-pa.org
DTSTART;TZID=Etc/GMT+5;VALUE=DATE:20260420
DTEND;TZID=Etc/GMT+5;VALUE=DATE:20260425
X-ALT-DESC;FMTTYPE=TEXT/HTML:
CATEGORIES:Intermediate
URL;VALUE=URI:https://www.seal-pa.org/mc-events/sais-ela-pssa-testing/
METHOD:PUBLISH
END:VEVENT
BEGIN:VEVENT
UID:2323-2200
DTSTAMP:20260421T142138Z
SUMMARY:SAIS Math/Science PSSA Testing
LOCATION:
ORGANIZER;CN=Gina Gessel:MAILTO:ggessel@seal-pa.org
DTSTART;TZID=Etc/GMT+5;VALUE=DATE:20260427
DTEND;TZID=Etc/GMT+5;VALUE=DATE:20260502
X-ALT-DESC;FMTTYPE=TEXT/HTML:
CATEGORIES:Intermediate
URL;VALUE=URI:https://www.seal-pa.org/mc-events/sais-math-science-pssa-test
 ing/
METHOD:PUBLISH
END:VEVENT
BEGIN:VEVENT
UID:2495-2269
DTSTAMP:20260421T142138Z
SUMMARY:Jazz Band Concert
LOCATION:
ORGANIZER;CN=Steve Shambach:MAILTO:sshambach@seal-pa.org
DTSTART;TZID=Etc/GMT+5:20260427T190000
DTEND;TZID=Etc/GMT+5:20260427T210000
X-ALT-DESC;FMTTYPE=TEXT/HTML:
CATEGORIES:Middle
URL;VALUE=URI:https://www.seal-pa.org/mc-events/jazz-band-concert/
METHOD:PUBLISH
END:VEVENT
BEGIN:VEVENT
UID:2323-2200
DTSTAMP:20260421T142138Z
SUMMARY:SAIS Math/Science PSSA Testing
LOCATION:
ORGANIZER;CN=Gina Gessel:MAILTO:ggessel@seal-pa.org
DTSTART;TZID=Etc/GMT+5;VALUE=DATE:20260427
DTEND;TZID=Etc/GMT+5;VALUE=DATE:20260502
X-ALT-DESC;FMTTYPE=TEXT/HTML:
CATEGORIES:Intermediate
URL;VALUE=URI:https://www.seal-pa.org/mc-events/sais-math-science-pssa-test
 ing/
METHOD:PUBLISH
END:VEVENT
BEGIN:VEVENT
UID:2510-2362
DTSTAMP:20260421T142138Z
SUMMARY:PSSA Testing Math
LOCATION:
ORGANIZER;CN=Steve Shambach:MAILTO:sshambach@seal-pa.org
DTSTART;TZID=Etc/GMT+5:20260428T083500
DTEND;TZID=Etc/GMT+5:20260429T103500
X-ALT-DESC;FMTTYPE=TEXT/HTML:
CATEGORIES:Middle
URL;VALUE=URI:https://www.seal-pa.org/mc-events/pssa-testing-math/
METHOD:PUBLISH
END:VEVENT
BEGIN:VEVENT
UID:2323-2200
DTSTAMP:20260421T142138Z
SUMMARY:SAIS Math/Science PSSA Testing
LOCATION:
ORGANIZER;CN=Gina Gessel:MAILTO:ggessel@seal-pa.org
DTSTART;TZID=Etc/GMT+5;VALUE=DATE:20260427
DTEND;TZID=Etc/GMT+5;VALUE=DATE:20260502
X-ALT-DESC;FMTTYPE=TEXT/HTML:
CATEGORIES:Intermediate
URL;VALUE=URI:https://www.seal-pa.org/mc-events/sais-math-science-pssa-test
 ing/
METHOD:PUBLISH
END:VEVENT
BEGIN:VEVENT
UID:2510-2362
DTSTAMP:20260421T142138Z
SUMMARY:PSSA Testing Math
LOCATION:
ORGANIZER;CN=Steve Shambach:MAILTO:sshambach@seal-pa.org
DTSTART;TZID=Etc/GMT+5:20260428T083500
DTEND;TZID=Etc/GMT+5:20260429T103500
X-ALT-DESC;FMTTYPE=TEXT/HTML:
CATEGORIES:Middle
URL;VALUE=URI:https://www.seal-pa.org/mc-events/pssa-testing-math/
METHOD:PUBLISH
END:VEVENT
BEGIN:VEVENT
UID:2323-2200
DTSTAMP:20260421T142138Z
SUMMARY:SAIS Math/Science PSSA Testing
LOCATION:
ORGANIZER;CN=Gina Gessel:MAILTO:ggessel@seal-pa.org
DTSTART;TZID=Etc/GMT+5;VALUE=DATE:20260427
DTEND;TZID=Etc/GMT+5;VALUE=DATE:20260502
X-ALT-DESC;FMTTYPE=TEXT/HTML:
CATEGORIES:Intermediate
URL;VALUE=URI:https://www.seal-pa.org/mc-events/sais-math-science-pssa-test
 ing/
METHOD:PUBLISH
END:VEVENT
BEGIN:VEVENT
UID:2511-2363
DTSTAMP:20260421T142138Z
SUMMARY:PSSA Testing Science
LOCATION:
ORGANIZER;CN=Steve Shambach:MAILTO:sshambach@seal-pa.org
DTSTART;TZID=Etc/GMT+5:20260430T083500
DTEND;TZID=Etc/GMT+5:20260501T103500
X-ALT-DESC;FMTTYPE=TEXT/HTML:
CATEGORIES:Middle
URL;VALUE=URI:https://www.seal-pa.org/mc-events/pssa-testing-science/
METHOD:PUBLISH
END:VEVENT
BEGIN:VEVENT
UID:2323-2200
DTSTAMP:20260421T142138Z
SUMMARY:SAIS Math/Science PSSA Testing
LOCATION:
ORGANIZER;CN=Gina Gessel:MAILTO:ggessel@seal-pa.org
DTSTART;TZID=Etc/GMT+5;VALUE=DATE:20260427
DTEND;TZID=Etc/GMT+5;VALUE=DATE:20260502
X-ALT-DESC;FMTTYPE=TEXT/HTML:
CATEGORIES:Intermediate
URL;VALUE=URI:https://www.seal-pa.org/mc-events/sais-math-science-pssa-test
 ing/
METHOD:PUBLISH
END:VEVENT
BEGIN:VEVENT
UID:2511-2363
DTSTAMP:20260421T142138Z
SUMMARY:PSSA Testing Science
LOCATION:
ORGANIZER;CN=Steve Shambach:MAILTO:sshambach@seal-pa.org
DTSTART;TZID=Etc/GMT+5:20260430T083500
DTEND;TZID=Etc/GMT+5:20260501T103500
X-ALT-DESC;FMTTYPE=TEXT/HTML:
CATEGORIES:Middle
URL;VALUE=URI:https://www.seal-pa.org/mc-events/pssa-testing-science/
METHOD:PUBLISH
END:VEVENT
END:VCALENDAR